BEGIN:VCALENDAR
PRODID:-//eluceo/ical//2.0/EN
VERSION:2.0
CALSCALE:GREGORIAN
BEGIN:VEVENT
UID:3611672a3630f22d86f4c0604c68ee20
DTSTAMP:20260420T200331Z
SUMMARY:7PM JFCS AMM Speaker Series
DESCRIPTION:Jewish Federation & Foundation of Northeast Florida\nCommunity 
 Calendar\nhttps://jewishjacksonville.org/jewish-federation-of-jacksonville
 -calendar/7pm-jfcs-speaker-series\n\nJFCS Speaker Series sponsored by Alex
 andra and Mark Miller
DTSTART;TZID=America/New_York:20150312T190000
DTEND;TZID=America/New_York:20150312T210000
END:VEVENT
END:VCALENDAR
