BEGIN:VCALENDAR
PRODID:-//eluceo/ical//2.0/EN
VERSION:2.0
CALSCALE:GREGORIAN
BEGIN:VEVENT
UID:09a7c4bfa6f15e7891d3bc7b9dfa1a0b
DTSTAMP:20260420T220519Z
SUMMARY:7PM JFCS PJ Library Dad's Night Out
DESCRIPTION:Jewish Federation & Foundation of Northeast Florida\nCommunity 
 Calendar\nhttps://jewishjacksonville.org/jewish-federation-of-jacksonville
 -calendar/7pm-jfcs-pj-library-dads-night-out\n\nMore details to follow.
DTSTART;TZID=America/New_York:20181007T190000
DTEND;TZID=America/New_York:20181007T210000
END:VEVENT
END:VCALENDAR
