BEGIN:VCALENDAR
PRODID:-//eluceo/ical//2.0/EN
VERSION:2.0
CALSCALE:GREGORIAN
BEGIN:VEVENT
UID:0ef5ca2341195e30bcccf1029f302a0b
DTSTAMP:20260424T003130Z
SUMMARY:7PM JFCS *PENDING* 2nd Generation Holocaust Survivors Event
DESCRIPTION:Jewish Federation & Foundation of Northeast Florida\nCommunity 
 Calendar\nhttps://jewishjacksonville.org/jewish-federation-of-jacksonville
 -calendar/7pm-jfcs-pending-2nd-generation-holocaust-survivors-history-of-a
 nti-semitism\n\n"History of Anti-Semitism"\n\nDetails to follow
DTSTART;TZID=America/New_York:20180926T190000
DTEND;TZID=America/New_York:20180926T210000
END:VEVENT
END:VCALENDAR
