BEGIN:VCALENDAR
PRODID:-//eluceo/ical//2.0/EN
VERSION:2.0
CALSCALE:GREGORIAN
BEGIN:VEVENT
UID:c185256dc58f24718415d5c02484633a
DTSTAMP:20260421T142705Z
SUMMARY:7PM Federation rGen Mix n Mingle "Purim Another One"
DESCRIPTION:Jewish Federation & Foundation of Northeast Florida\nCommunity 
 Calendar\nhttps://jewishjacksonville.org/jewish-federation-of-jacksonville
 -calendar/7pm-federation-rgen-mix-n-mingle-purim-another-one-8547\n\n7PM F
 ederation rGen Mix n Mingle "Purim Another On
DTSTART;TZID=America/New_York:20140311T190000
DTEND;TZID=America/New_York:20140311T220000
END:VEVENT
END:VCALENDAR
