BEGIN:VCALENDAR
PRODID:-//eluceo/ical//2.0/EN
VERSION:2.0
CALSCALE:GREGORIAN
BEGIN:VEVENT
UID:6a354a524bbc5218c9b1704056522a4b
DTSTAMP:20260421T172147Z
SUMMARY:7PM Federation rGen Girls Only -"Pinteresting Passover - Seder with
  Style"
DESCRIPTION:Jewish Federation & Foundation of Northeast Florida\nCommunity 
 Calendar\nhttps://jewishjacksonville.org/jewish-federation-of-jacksonville
 -calendar/7pm-federation-rgen-girls-only--pinteresting-passover---seder-wi
 th-style-8518\n\n7PM Federation rGen's GO - "Pinteresting Passover
DTSTART;TZID=America/New_York:20140409T190000
DTEND;TZID=America/New_York:20140409T210000
END:VEVENT
END:VCALENDAR
