BEGIN:VCALENDAR
PRODID:-//eluceo/ical//2.0/EN
VERSION:2.0
CALSCALE:GREGORIAN
BEGIN:VEVENT
UID:0eb2ff637f53c863537b3fe78b8371ed
DTSTAMP:20260425T215943Z
SUMMARY:7PM Federation Maimonides Society Event
DESCRIPTION:Jewish Federation & Foundation of Northeast Florida\nCommunity 
 Calendar\nhttps://jewishjacksonville.org/jewish-federation-of-jacksonville
 -calendar/7pm-federation-maimonides-society-event-48819\n\n7PM Federation 
 Maimonides Society Event
DTSTART;TZID=America/New_York:20140223T190000
DTEND;TZID=America/New_York:20140223T210000
END:VEVENT
END:VCALENDAR
