BEGIN:VCALENDAR
PRODID:-//eluceo/ical//2.0/EN
VERSION:2.0
CALSCALE:GREGORIAN
BEGIN:VEVENT
UID:c626e54df70537c85b4d86a5032da26f
DTSTAMP:20260420T174345Z
SUMMARY:7PM Federation Board of Directors Meeting
DESCRIPTION:Jewish Federation & Foundation of Northeast Florida\nCommunity 
 Calendar\nhttps://jewishjacksonville.org/jewish-federation-of-jacksonville
 -calendar/7pm-federation-board-of-directors-meeting1\n\nFederation Board o
 f Directors Meeting - 7:00 p.m.
DTSTART;TZID=America/New_York:20151203T190000
DTEND;TZID=America/New_York:20151203T200000
END:VEVENT
END:VCALENDAR
