BEGIN:VCALENDAR
PRODID:-//eluceo/ical//2.0/EN
VERSION:2.0
CALSCALE:GREGORIAN
BEGIN:VEVENT
UID:2374c6b7f05cd318d0cd9cf9b7257d1d
DTSTAMP:20260420T203300Z
SUMMARY:7PM Federation Board of Directors Meeting
DESCRIPTION:Jewish Federation & Foundation of Northeast Florida\nCommunity 
 Calendar\nhttps://jewishjacksonville.org/jewish-federation-of-jacksonville
 -calendar/7pm-federation-board-of-directors-meeting-may2016\n\nFederation 
 Board of Directors Meeting. 7:00 p.m. at the JCA.
DTSTART;TZID=America/New_York:20160526T190000
DTEND;TZID=America/New_York:20160526T210000
END:VEVENT
END:VCALENDAR
