BEGIN:VCALENDAR
PRODID:-//eluceo/ical//2.0/EN
VERSION:2.0
CALSCALE:GREGORIAN
BEGIN:VEVENT
UID:947425a7d4c874edaeb56a7c2ec2d25a
DTSTAMP:20260425T101900Z
SUMMARY:7PM Federation Board of Directors Meeting
DESCRIPTION:Jewish Federation & Foundation of Northeast Florida\nCommunity 
 Calendar\nhttps://jewishjacksonville.org/jewish-federation-of-jacksonville
 -calendar/7pm-federation-board-of-directors-meeting-apr\n\nFederation Boar
 d of Directors Meeting. 6:00 p.m. at the JCA.
DTSTART;TZID=America/New_York:20160426T190000
DTEND;TZID=America/New_York:20160426T210000
END:VEVENT
END:VCALENDAR
