BEGIN:VCALENDAR
PRODID:-//eluceo/ical//2.0/EN
VERSION:2.0
CALSCALE:GREGORIAN
BEGIN:VEVENT
UID:00bf64a5c984b63201e122de1df11d53
DTSTAMP:20260425T140611Z
SUMMARY:7PM Federation Board of Director's Meeting
DESCRIPTION:Jewish Federation & Foundation of Northeast Florida\nCommunity 
 Calendar\nhttps://jewishjacksonville.org/jewish-federation-of-jacksonville
 -calendar/7pm-federation-board-of-directors-meeting-48498\n\n7PM Federatio
 n BOD Meeting
DTSTART;TZID=America/New_York:20140227T190000
DTEND;TZID=America/New_York:20140227T200000
END:VEVENT
END:VCALENDAR
