BEGIN:VCALENDAR
PRODID:-//eluceo/ical//2.0/EN
VERSION:2.0
CALSCALE:GREGORIAN
BEGIN:VEVENT
UID:dd47ac217f6d245ff92f95e47e0bb0a3
DTSTAMP:20260424T215414Z
SUMMARY:7PM Cummer Museum: Nazi Art Censorship Lecture
DESCRIPTION:Jewish Federation & Foundation of Northeast Florida\nCommunity 
 Calendar\nhttps://jewishjacksonville.org/jewish-federation-of-jacksonville
 -calendar/7pm-cummer-museum-nazi-art-censorship-lecture\n\nCummer Executiv
 e Director Hope McMath and Chief Curator Holly Keris present “Banned: Th
 e Nazi Degenerate Art Exhibition and Censorship\,” an in-depth look at c
 ensorship of artistic expression during the Nazi regime and beyond. The le
 ctures take place at 4:00 p.m. and 7:00 p.m.\, September 29\, at The Cum
 mer Museum of Art & Gardens.
DTSTART;TZID=America/New_York:20150929T190000
DTEND;TZID=America/New_York:20150929T210000
END:VEVENT
END:VCALENDAR
