BEGIN:VCALENDAR
PRODID:-//eluceo/ical//2.0/EN
VERSION:2.0
CALSCALE:GREGORIAN
BEGIN:VEVENT
UID:3888ff52d566c47c794c3ae10a988251
DTSTAMP:20260423T142611Z
SUMMARY:7PM Crafting at the J:  Making your Own Chanukkah Candles
DESCRIPTION:Jewish Federation & Foundation of Northeast Florida\nCommunity 
 Calendar\nhttps://jewishjacksonville.org/jewish-federation-of-jacksonville
 -calendar/7pm-crafting-at-the-j--making-your-own-chanukkah-candles\n\n7PM 
 Crafting at the J:  Chanukkah Candles
DTSTART;TZID=America/New_York:20131114T190000
DTEND;TZID=America/New_York:20131114T210000
END:VEVENT
END:VCALENDAR
