BEGIN:VCALENDAR
PRODID:-//eluceo/ical//2.0/EN
VERSION:2.0
CALSCALE:GREGORIAN
BEGIN:VEVENT
UID:44945f3a8989cd0c3442e7791b743595
DTSTAMP:20260423T192933Z
SUMMARY:7PM Congregation Ahavath Chesed - This is My Family -
DESCRIPTION:Jewish Federation & Foundation of Northeast Florida\nCommunity 
 Calendar\nhttps://jewishjacksonville.org/jewish-federation-of-jacksonville
 -calendar/7pm-congregation-ahavath-chesed-this-is-my-family---\n\nIssues t
 hat affect Temple families and how Jewish texts and traditions can be a gu
 ide.\n\nRSVP To receive Zoom Link. RSVP@TheTempleJax.org or (904) 733-7078
 \n\n"New Rituals for New Life Stage"
DTSTART;TZID=America/New_York:20210407T190000
DTEND;TZID=America/New_York:20210407T203000
END:VEVENT
END:VCALENDAR
