BEGIN:VCALENDAR
PRODID:-//eluceo/ical//2.0/EN
VERSION:2.0
CALSCALE:GREGORIAN
BEGIN:VEVENT
UID:5abcce960a41d157fd7cda5413a31906
DTSTAMP:20260424T045342Z
SUMMARY:7PM AIPAC Community Event
DESCRIPTION:Jewish Federation & Foundation of Northeast Florida\nCommunity 
 Calendar\nhttps://jewishjacksonville.org/jewish-federation-of-jacksonville
 -calendar/7pm-aipac-community-event-8524\n\n7PM AIPAC Community Event
DTSTART;TZID=America/New_York:20130930T190000
DTEND;TZID=America/New_York:20130930T193000
END:VEVENT
END:VCALENDAR
