BEGIN:VCALENDAR
PRODID:-//eluceo/ical//2.0/EN
VERSION:2.0
CALSCALE:GREGORIAN
BEGIN:VEVENT
UID:a5663909d1633f7c9ad811356fea7d47
DTSTAMP:20260421T141616Z
SUMMARY:7PM AIPAC Jacksonville Community Briefing take off Faces and Races
DESCRIPTION:Jewish Federation & Foundation of Northeast Florida\nCommunity 
 Calendar\nhttps://jewishjacksonville.org/jewish-federation-of-jacksonville
 -calendar/7pm-aipac-comm-brief-faces-and-races-2016-elections\n\nSpeaker: 
 Brad Gordon\, Director of Policy and Government Affairs\n\nTime: 7PM -9PM
      \n\nPrice to attend: $36   \n\nOpen to the community\n\nCall E
 lana Rickel or Nina Uribe for more information\n\nerickel@aipac.org nurib
 e@aipac.org 954-382-6110
DTSTART;TZID=America/New_York:20160524T190000
DTEND;TZID=America/New_York:20160524T210000
END:VEVENT
END:VCALENDAR
