BEGIN:VCALENDAR
PRODID:-//eluceo/ical//2.0/EN
VERSION:2.0
CALSCALE:GREGORIAN
BEGIN:VEVENT
UID:4addee94e15538763f59965d5654e789
DTSTAMP:20260420T215020Z
SUMMARY:7PM AIPAC Club Member Reception
DESCRIPTION:Jewish Federation & Foundation of Northeast Florida\nCommunity 
 Calendar\nhttps://jewishjacksonville.org/jewish-federation-of-jacksonville
 -calendar/7pm-aipac-club-member-reception\n\nAIPAC Club Member Reception
DTSTART;TZID=America/New_York:20150520T190000
DTEND;TZID=America/New_York:20150520T210000
END:VEVENT
END:VCALENDAR
