BEGIN:VCALENDAR
PRODID:-//eluceo/ical//2.0/EN
VERSION:2.0
CALSCALE:GREGORIAN
BEGIN:VEVENT
UID:2a66ddb3fa9f9f54ff782b11d5b877cc
DTSTAMP:20260424T002750Z
SUMMARY:7PM 2015 River Garden Gala
DESCRIPTION:Jewish Federation & Foundation of Northeast Florida\nCommunity 
 Calendar\nhttps://jewishjacksonville.org/jewish-federation-of-jacksonville
 -calendar/7pm-2015-river-garden-gala-48767\n\n7PM 2015 River Garden Gala
DTSTART;TZID=America/New_York:20151121T190000
DTEND;TZID=America/New_York:20151121T233000
END:VEVENT
END:VCALENDAR
