BEGIN:VCALENDAR
PRODID:-//eluceo/ical//2.0/EN
VERSION:2.0
CALSCALE:GREGORIAN
BEGIN:VEVENT
UID:56deab0694f3f0deed2528574528558c
DTSTAMP:20260421T212330Z
SUMMARY:7P JCA Theatre Camp Show "Glee"
DESCRIPTION:Jewish Federation & Foundation of Northeast Florida\nCommunity 
 Calendar\nhttps://jewishjacksonville.org/jewish-federation-of-jacksonville
 -calendar/7p-jca-theatre-camp-show-glee\n\n7P JCA Theatre Camp Show "Glee"
DTSTART;TZID=America/New_York:20130710T190000
DTEND;TZID=America/New_York:20130710T210000
END:VEVENT
END:VCALENDAR
