BEGIN:VCALENDAR
PRODID:-//eluceo/ical//2.0/EN
VERSION:2.0
CALSCALE:GREGORIAN
BEGIN:VEVENT
UID:2bff48c85e4e2d1b003d5fd95aa18191
DTSTAMP:20260422T181120Z
SUMMARY:7P JCA Film Series - "Keeping Up with the Steins"
DESCRIPTION:Jewish Federation & Foundation of Northeast Florida\nCommunity 
 Calendar\nhttps://jewishjacksonville.org/jewish-federation-of-jacksonville
 -calendar/7p-jca-film-series---keeping-up-with-the-steins\n\n7P JCA Film S
 eries - "Keeping Up with the Steins"
DTSTART;TZID=America/New_York:20130815T190000
DTEND;TZID=America/New_York:20130815T210000
END:VEVENT
END:VCALENDAR
