BEGIN:VCALENDAR
PRODID:-//eluceo/ical//2.0/EN
VERSION:2.0
CALSCALE:GREGORIAN
BEGIN:VEVENT
UID:b820798be0f09f434fa9119c5a5ae02c
DTSTAMP:20260420T190454Z
SUMMARY:7P Federation Executive Board Meeting
DESCRIPTION:Jewish Federation & Foundation of Northeast Florida\nCommunity 
 Calendar\nhttps://jewishjacksonville.org/jewish-federation-of-jacksonville
 -calendar/7p-federation-executive-board-meeting-8159\n\n7P Fed Executive B
 oard Meeting
DTSTART;TZID=America/New_York:20130523T190000
DTEND;TZID=America/New_York:20130523T210000
END:VEVENT
END:VCALENDAR
