BEGIN:VCALENDAR
PRODID:-//eluceo/ical//2.0/EN
VERSION:2.0
CALSCALE:GREGORIAN
BEGIN:VEVENT
UID:ff7b600a04d9b049773731278bfa79e0
DTSTAMP:20260421T161847Z
SUMMARY:7:59 PM Jacksonville Jewish Center Sukkot Candle Lighting
DESCRIPTION:Jewish Federation & Foundation of Northeast Florida\nCommunity 
 Calendar\nhttps://jewishjacksonville.org/jewish-federation-of-jacksonville
 -calendar/759-pm-jacksonville-jewish-center-sukkot-candle-lighting\n\nSukk
 ot Candle Lighting
DTSTART;TZID=America/New_York:20210921T195900
DTEND;TZID=America/New_York:20210921T201400
END:VEVENT
END:VCALENDAR
