BEGIN:VCALENDAR
PRODID:-//eluceo/ical//2.0/EN
VERSION:2.0
CALSCALE:GREGORIAN
BEGIN:VEVENT
UID:6731d3006db731e320845b6a799b0726
DTSTAMP:20260424T063019Z
SUMMARY:7:46 PM Jacksomville Jewish Center Havdalah (Shabbat ends )
DESCRIPTION:Jewish Federation & Foundation of Northeast Florida\nCommunity 
 Calendar\nhttps://jewishjacksonville.org/jewish-federation-of-jacksonville
 -calendar/746-pm-jacksomville-jewish-center-havdalah-shabbat-ends\n\nHavda
 lah Shabbat Ends 
DTSTART;TZID=America/New_York:20211002T194600
DTEND;TZID=America/New_York:20211002T194600
END:VEVENT
END:VCALENDAR
