BEGIN:VCALENDAR
PRODID:-//eluceo/ical//2.0/EN
VERSION:2.0
CALSCALE:GREGORIAN
BEGIN:VEVENT
UID:0dc702c76adf9ea27fb369e4c09c9105
DTSTAMP:20260421T095343Z
SUMMARY:7:45P JCA's 25th Birthday Party
DESCRIPTION:Jewish Federation & Foundation of Northeast Florida\nCommunity 
 Calendar\nhttps://jewishjacksonville.org/jewish-federation-of-jacksonville
 -calendar/745p-jcas-25th-birthday-party\n\n7:45P JCA's 25th Birthday Party
DTSTART;TZID=America/New_York:20130420T194500
DTEND;TZID=America/New_York:20130420T201500
END:VEVENT
END:VCALENDAR
