BEGIN:VCALENDAR
PRODID:-//eluceo/ical//2.0/EN
VERSION:2.0
CALSCALE:GREGORIAN
BEGIN:VEVENT
UID:16a681766a6d59f81b0bb25ab63d10c9
DTSTAMP:20260425T171642Z
SUMMARY:7:45 PM Torah Academy Board Meeting
DESCRIPTION:Jewish Federation & Foundation of Northeast Florida\nCommunity 
 Calendar\nhttps://jewishjacksonville.org/jewish-federation-of-jacksonville
 -calendar/745-pm-torah-academy-board-meeting\n\nTorah Academy Board Meetin
 g
DTSTART;TZID=America/New_York:20151022T194500
DTEND;TZID=America/New_York:20151022T204500
END:VEVENT
END:VCALENDAR
