BEGIN:VCALENDAR
PRODID:-//eluceo/ical//2.0/EN
VERSION:2.0
CALSCALE:GREGORIAN
BEGIN:VEVENT
UID:7a6991c0950c527089bd67267494fc9d
DTSTAMP:20260423T092832Z
SUMMARY:7:45 PM The Temple Havdalah Under the Stars
DESCRIPTION:Jewish Federation & Foundation of Northeast Florida\nCommunity 
 Calendar\nhttps://jewishjacksonville.org/jewish-federation-of-jacksonville
 -calendar/745-pm-the-temple-havdalah-under-the-stars\n\n
DTSTART;TZID=America/New_York:20200711T194500
DTEND;TZID=America/New_York:20200711T210000
END:VEVENT
END:VCALENDAR
