BEGIN:VCALENDAR
PRODID:-//eluceo/ical//2.0/EN
VERSION:2.0
CALSCALE:GREGORIAN
BEGIN:VEVENT
UID:9b9e6559f88f0221a5d42e90c4903679
DTSTAMP:20260422T181427Z
SUMMARY:7:45 PM JJC Ma’ariv and Havdalah from the Clergy Sukkot Virtual
DESCRIPTION:Jewish Federation & Foundation of Northeast Florida\nCommunity 
 Calendar\nhttps://jewishjacksonville.org/jewish-federation-of-jacksonville
 -calendar/745-pm-jjc-maariv-and-havdalah-from-the-clergy-sukkot-virtual\n\
 nMa’ariv and Havdalah from the Clergy Sukkot Virtual\n\nhttps://www.jaxj
 ewishcenter.org/jewish-life/holidays/hhd5781/virtualhhd/
DTSTART;TZID=America/New_York:20201004T194500
DTEND;TZID=America/New_York:20201004T204500
END:VEVENT
END:VCALENDAR
