BEGIN:VCALENDAR
PRODID:-//eluceo/ical//2.0/EN
VERSION:2.0
CALSCALE:GREGORIAN
BEGIN:VEVENT
UID:d399f3841f6397e898f184a161c529d1
DTSTAMP:20260425T233817Z
SUMMARY:7:30PM Federation rGen Shark Tank
DESCRIPTION:Jewish Federation & Foundation of Northeast Florida\nCommunity 
 Calendar\nhttps://jewishjacksonville.org/jewish-federation-of-jacksonville
 -calendar/730pm-federation-rgen-shark-tank-8517\n\n7:30PM Federation rGen 
 Shark Tank
DTSTART;TZID=America/New_York:20140329T193000
DTEND;TZID=America/New_York:20140329T220000
END:VEVENT
END:VCALENDAR
