BEGIN:VCALENDAR
PRODID:-//eluceo/ical//2.0/EN
VERSION:2.0
CALSCALE:GREGORIAN
BEGIN:VEVENT
UID:55ce40c3f2bf99f9582c261c49808a79
DTSTAMP:20260425T233506Z
SUMMARY:7:30PM Federation FUNDRAISER Campaign Kickoff
DESCRIPTION:Jewish Federation & Foundation of Northeast Florida\nCommunity 
 Calendar\nhttps://jewishjacksonville.org/jewish-federation-of-jacksonville
 -calendar/730pm-federation-fundraiser-campaign-kickoff-8391\n\n7:30PM Fede
 ration FUNDRAISER Campaign Kickoff
DTSTART;TZID=America/New_York:20131009T193000
DTEND;TZID=America/New_York:20131009T210000
END:VEVENT
END:VCALENDAR
