BEGIN:VCALENDAR
PRODID:-//eluceo/ical//2.0/EN
VERSION:2.0
CALSCALE:GREGORIAN
BEGIN:VEVENT
UID:eaded28d1bc4a74e059f0376b4912d9f
DTSTAMP:20260423T194024Z
SUMMARY:7:30PM AWAY Jacksonville Jaguars at Washington Redskins
DESCRIPTION:Jewish Federation & Foundation of Northeast Florida\nCommunity 
 Calendar\nhttps://jewishjacksonville.org/jewish-federation-of-jacksonville
 -calendar/730pm-away-jacksonville-jaguars-at-washington-redskins\n\nAway G
 ame - Jacksonville Jaguars at Washington Redskins
DTSTART;TZID=America/New_York:20150903T193000
DTEND;TZID=America/New_York:20150903T223000
END:VEVENT
END:VCALENDAR
