BEGIN:VCALENDAR
PRODID:-//eluceo/ical//2.0/EN
VERSION:2.0
CALSCALE:GREGORIAN
BEGIN:VEVENT
UID:4070fac86f92348f35cb6de9ca3096bb
DTSTAMP:20260420T155542Z
SUMMARY:7:30PM AIPAC Annual Jacksonville Event
DESCRIPTION:Jewish Federation & Foundation of Northeast Florida\nCommunity 
 Calendar\nhttps://jewishjacksonville.org/jewish-federation-of-jacksonville
 -calendar/730pm-aipac\n\nJoin us at 7:30 p.m. at the Jacksonville Marriott
  for our annual AIPAC presentation and dessert reception.
DTSTART;TZID=America/New_York:20141120T193000
DTEND;TZID=America/New_York:20141120T223000
END:VEVENT
END:VCALENDAR
