BEGIN:VCALENDAR
PRODID:-//eluceo/ical//2.0/EN
VERSION:2.0
CALSCALE:GREGORIAN
BEGIN:VEVENT
UID:8d872864b2dbebf0b588c9015fee9eb7
DTSTAMP:20260422T091739Z
SUMMARY:7:30 to 11 pm - JCA Annual Fundraiser - February 22\, 2025
DESCRIPTION:Jewish Federation & Foundation of Northeast Florida\nCommunity 
 Calendar\nhttps://jewishjacksonville.org/jewish-federation-of-jacksonville
 -calendar/730-to-11-pm-jca-annual-fundraiser-february-22-2025\n\nRoads? Wh
 ere we are going\, we don’t need roads…\n\nWe are going Jax to the Fut
 ure!\n\nSaturday\, February 22 at 7:30 pm\n\nSave the date for an electrif
 ying night of time-traveling fun at the JCA annual fundraiser!\n\nNo DeLo
 rean needed…rumor has it\, one might show up! Hop in\, fasten your seat
 belts\, and join us for a night where\, the future is what you make it!\n
 \nDrinks – Dinner – Dancing\n\nEvent Chairs: Jill and Samuel Stromberg
 \n\nSupport of our annual JCA fundraising event pr...
DTSTART;TZID=America/New_York:20250222T193000
DTEND;TZID=America/New_York:20250222T230000
END:VEVENT
END:VCALENDAR
