BEGIN:VCALENDAR
PRODID:-//eluceo/ical//2.0/EN
VERSION:2.0
CALSCALE:GREGORIAN
BEGIN:VEVENT
UID:1709cf745a94e07e0baafe9abced3686
DTSTAMP:20260424T033857Z
SUMMARY:7:30 PM JJC Scholar in Residence Jewish Law & Frontiers of Science
DESCRIPTION:Jewish Federation & Foundation of Northeast Florida\nCommunity 
 Calendar\nhttps://jewishjacksonville.org/jewish-federation-of-jacksonville
 -calendar/730-pm-jjc-scholar-in-residence-jewish-law-frontiers-of-science\
 n\nA "Safer" Safer Scholar-in-Residence w/ Rabbi Daniel Nevins\n\nThursday
 \, May 20⋅7:30 – 9:00pm\n\n\n\n\n\n\n\nLocation:\n\n\nVirtual\n\n \n\
 n\n\n\n\n\n\nDescription:Topic: A "Safer" Safer Scholar-in-Residence\nT
 ime: May 20\, 2021 07:30 PM Eastern Time (US and Canada)\n        May 
 20\, 2021 07:30 PM\n        May 23\, 2021 07:30 PM\n        May 24
 \, 2021 07:30 PM\nPlease download and import the following iCalendar (.ics
 ) files to your calendar system.\nDaily: https://us02w...
DTSTART;TZID=America/New_York:20210520T193000
DTEND;TZID=America/New_York:20210520T210000
END:VEVENT
END:VCALENDAR
