BEGIN:VCALENDAR
PRODID:-//eluceo/ical//2.0/EN
VERSION:2.0
CALSCALE:GREGORIAN
BEGIN:VEVENT
UID:87cad6260db9c34d837fe6496b95e8a7
DTSTAMP:20260424T214636Z
SUMMARY:7:30 PM - JCA Annual Fundraiser - February 21\, 2026
DESCRIPTION:Jewish Federation & Foundation of Northeast Florida\nCommunity 
 Calendar\nhttps://jewishjacksonville.org/jewish-federation-of-jacksonville
 -calendar/730-pm-jca-annual-fundraiser--february-21-2026\n\nSave the date 
 for the JCA's Annual Fundraiser!\n\nFor more information\, please contact 
 Kendall Sisisky Valliere at kendall.valliere@jcajax.org.
DTSTART;TZID=America/New_York:20260221T193000
DTEND;TZID=America/New_York:20260221T230000
END:VEVENT
END:VCALENDAR
