BEGIN:VCALENDAR
PRODID:-//eluceo/ical//2.0/EN
VERSION:2.0
CALSCALE:GREGORIAN
BEGIN:VEVENT
UID:272789ed0b349170c0dca7ff4eb58fa3
DTSTAMP:20260420T111500Z
SUMMARY:7:30 PM Jacksonville Jewish Center Trivia - Virtual
DESCRIPTION:Jewish Federation & Foundation of Northeast Florida\nCommunity 
 Calendar\nhttps://jewishjacksonville.org/jewish-federation-of-jacksonville
 -calendar/730-pm-jacksonville-jewish-center-trivia-virtual\n\nTrivia will 
 resume on 8/4/21\n\n \n\nWed 7:30pm – 8:15pm\n\nWhereVirtual\, (map)\n
 \nDescriptionTopic: Trivia Night - It's ON!!\nTime: 7:30 PM Eastern Time (
 US and Canada)\nJoin Zoom Meeting\nhttps://us02web.zoom.us/j/86154936028 
  \n\nBring your own food\, drinks\, snacks\, phones\, tablets\, laptops\,
  desktops! Please note that it is not a team competition unless you have s
 everal people in one place that are doing it together. You will need 2 dev
 ices: one to see the questions and another to...
DTSTART;TZID=America/New_York:20210414T193000
DTEND;TZID=America/New_York:20210414T201500
END:VEVENT
END:VCALENDAR
