BEGIN:VCALENDAR
PRODID:-//eluceo/ical//2.0/EN
VERSION:2.0
CALSCALE:GREGORIAN
BEGIN:VEVENT
UID:b99ff40e3d009c94a83b677c6511cc50
DTSTAMP:20260425T223834Z
SUMMARY:7:30 PM Jacksonville Jewish Center Some Good Nus with Hazzan Holzer
DESCRIPTION:Jewish Federation & Foundation of Northeast Florida\nCommunity 
 Calendar\nhttps://jewishjacksonville.org/jewish-federation-of-jacksonville
 -calendar/730-pm-jacksonville-jewish-center-some-good-nus-with-hazzan-holz
 er\n\nhttps://www.jaxjewishcenter.org/engage/full-calendar/\n\nSome Good N
 us When: \n\nHear the amazing things going on throughout the Jacksonville 
 Jewish community to better our world during these difficult times.
DTSTART;TZID=America/New_York:20200722T193000
DTEND;TZID=America/New_York:20200722T203000
END:VEVENT
END:VCALENDAR
