BEGIN:VCALENDAR
PRODID:-//eluceo/ical//2.0/EN
VERSION:2.0
CALSCALE:GREGORIAN
BEGIN:VEVENT
UID:ea59c76da33c07515e83f2883309d4b7
DTSTAMP:20260423T125101Z
SUMMARY:7:30 PM Jacksonville Jewish Center Passover Day 2 Evening Services
DESCRIPTION:Jewish Federation & Foundation of Northeast Florida\nCommunity 
 Calendar\nhttps://jewishjacksonville.org/jewish-federation-of-jacksonville
 -calendar/730-pm-jacksonville-jewish-center-passover-day-2-evening-service
 s\n\nhttps://www.jaxjewishcenter.org/engage/full-calendar/
DTSTART;TZID=America/New_York:20220417T193000
DTEND;TZID=America/New_York:20220417T203000
END:VEVENT
END:VCALENDAR
