BEGIN:VCALENDAR
PRODID:-//eluceo/ical//2.0/EN
VERSION:2.0
CALSCALE:GREGORIAN
BEGIN:VEVENT
UID:725782db36f98d7d331a08ef4fee2fad
DTSTAMP:20260423T142907Z
SUMMARY:7:30 Jacksonville Jewish Center Minha\, Maariv and Havdallah Virtua
 l
DESCRIPTION:Jewish Federation & Foundation of Northeast Florida\nCommunity 
 Calendar\nhttps://jewishjacksonville.org/jewish-federation-of-jacksonville
 -calendar/730-jacksonville-jewish-center-minha-maariv-and-havdallah-virtua
 l\n\nShabbat afternoon w/ the Center (Minha\, Ma'ariv & Havdallah)\n\n7:15
  – 8:15pm \n\nhttps://www.jaxjewishcenter.org/engage/full-calendar/\n\n
 Virtual\n\n\n\n\n\n\n\nDescription:Minha\, Ma'ariv & Havdallah\n\n\n\n
 \n\n\n\nOrganizer: Worship / Holidays\n\nWorship / Holidays
DTSTART;TZID=America/New_York:20210424T193000
DTEND;TZID=America/New_York:20210424T203000
END:VEVENT
END:VCALENDAR
