BEGIN:VCALENDAR
PRODID:-//eluceo/ical//2.0/EN
VERSION:2.0
CALSCALE:GREGORIAN
BEGIN:VEVENT
UID:7a2f3679e68b1e77323c2b621216e012
DTSTAMP:20260422T215354Z
SUMMARY:7:30 Jacksonville Jewish Center Adult Ed Virtual Rabbi Lubliner
DESCRIPTION:Jewish Federation & Foundation of Northeast Florida\nCommunity 
 Calendar\nhttps://jewishjacksonville.org/jewish-federation-of-jacksonville
 -calendar/730-jacksonville-jewish-center-adult-ed-virtual-rabbi-lubliner\n
 \nAdult Ed Series - Learning w/ RJL\n\nMonday\, February 22⋅7:30 – 8:3
 0pm\n\nhttps://www.jaxjewishcenter.org/engage/full-calendar/ \n\n\n\n\n\n
 \n\n \n\nDescription:February 22 – The Warrior and the Shadow Small 
 Town Boy Makes Good - The Strange Coronations of Saul\n\n \n\n \n\n 
DTSTART;TZID=America/New_York:20210222T193000
DTEND;TZID=America/New_York:20210222T203000
END:VEVENT
END:VCALENDAR
