BEGIN:VCALENDAR
PRODID:-//eluceo/ical//2.0/EN
VERSION:2.0
CALSCALE:GREGORIAN
BEGIN:VEVENT
UID:040427376f45ae47c617c77711834680
DTSTAMP:20260424T161319Z
SUMMARY:7:30 History of the COVID19 Vaccine
DESCRIPTION:Jewish Federation & Foundation of Northeast Florida\nCommunity 
 Calendar\nhttps://jewishjacksonville.org/jewish-federation-of-jacksonville
 -calendar/730-history-of-the-covid19-vaccine\n\nJewish Federation & Founda
 tion’s Society of Healers will present two informative programs about CO
 VID-19. “Proof to Practice: History of the COVID-19 Vaccine” will be p
 resented on Wednesday\, March 3 and Wednesday\, March 10 at 7:30 p.m. \nT
 he program on March 3 will focus on the vaccine’s development with guest
  speaker Dr. Michael Koren\, principal investigator for the Pfizer and Mod
 erna programs and active investigator in the ongoing Novavax study. A limi
 ted number of vaccinated physi...
DTSTART;TZID=America/New_York:20210303T193000
DTEND;TZID=America/New_York:20210303T203000
END:VEVENT
END:VCALENDAR
