BEGIN:VCALENDAR
PRODID:-//eluceo/ical//2.0/EN
VERSION:2.0
CALSCALE:GREGORIAN
BEGIN:VEVENT
UID:16c7afba7f1e31518bceb9eb6a61a711
DTSTAMP:20260425T140043Z
SUMMARY:7:10 AM Jacksonville Jewish Center Morning Services Virtual
DESCRIPTION:Jewish Federation & Foundation of Northeast Florida\nCommunity 
 Calendar\nhttps://jewishjacksonville.org/jewish-federation-of-jacksonville
 -calendar/710-am-jacksonville-jewish-center-morning-servicesvirtual\n\nPle
 ase note that this is the daily schedule for Minyan. If there is a differe
 nt time stipulated for a holiday please refer to that time. \n\n \n\nMor
 ning Services (Virtual)\n\nhttps://www.jaxjewishcenter.org/engage/full-cal
 endar/
DTSTART;TZID=America/New_York:20201102T071000
DTEND;TZID=America/New_York:20201102T081000
END:VEVENT
END:VCALENDAR
