BEGIN:VCALENDAR
PRODID:-//eluceo/ical//2.0/EN
VERSION:2.0
CALSCALE:GREGORIAN
BEGIN:VEVENT
UID:70cc346c5f35e563b573574f490c1683
DTSTAMP:20260421T060202Z
SUMMARY:7:10 AM Jacksonville Jewish Center Morning Services Virtual
DESCRIPTION:Jewish Federation & Foundation of Northeast Florida\nCommunity 
 Calendar\nhttps://jewishjacksonville.org/jewish-federation-of-jacksonville
 -calendar/710-am-jacksonville-jewish-center-morning-services-virtual\n\nMo
 rning Services (Virtual)\n\nhttps://www.jaxjewishcenter.org/engage/full-ca
 lendar/\n\n7:10 – 8:10am\n\nWeekly on weekdays
DTSTART;TZID=America/New_York:20201030T071000
DTEND;TZID=America/New_York:20201030T081000
END:VEVENT
END:VCALENDAR
