BEGIN:VCALENDAR
PRODID:-//eluceo/ical//2.0/EN
VERSION:2.0
CALSCALE:GREGORIAN
BEGIN:VEVENT
UID:d23862d889c12520f3720b15a4da47d4
DTSTAMP:20260423T042349Z
SUMMARY:7:00PM Temple - A Taste of Judaism
DESCRIPTION:Jewish Federation & Foundation of Northeast Florida\nCommunity 
 Calendar\nhttps://jewishjacksonville.org/jewish-federation-of-jacksonville
 -calendar/700pm-temple---a-taste-of-judaism-8479\n\n7:00PM Temple - A Tast
 e of Judaism
DTSTART;TZID=America/New_York:20130711T190000
DTEND;TZID=America/New_York:20130711T210000
END:VEVENT
END:VCALENDAR
