BEGIN:VCALENDAR
PRODID:-//eluceo/ical//2.0/EN
VERSION:2.0
CALSCALE:GREGORIAN
BEGIN:VEVENT
UID:fa8299c79d799add59679d1601d9464b
DTSTAMP:20260421T061950Z
SUMMARY:7:00PM River Garden Foundation Gala
DESCRIPTION:Jewish Federation & Foundation of Northeast Florida\nCommunity 
 Calendar\nhttps://jewishjacksonville.org/jewish-federation-of-jacksonville
 -calendar/700pm-river-garden-foundation-gala\n\n33rd River Garden Foundat
 ion Gala\n\nNovember 22\, 2025\n\nPrime Osborn Convention Center\n\nco-cha
 irs Erin Rogozinski Weintraub and Sandy Zimmerman\n\n 
DTSTART;TZID=America/New_York:20251122T190000
DTEND;TZID=America/New_York:20251122T230000
END:VEVENT
END:VCALENDAR
