BEGIN:VCALENDAR
PRODID:-//eluceo/ical//2.0/EN
VERSION:2.0
CALSCALE:GREGORIAN
BEGIN:VEVENT
UID:b5534843d5224cc8c410a5845c115131
DTSTAMP:20260422T175131Z
SUMMARY:7:00PM PJ Library Mom's Night Out
DESCRIPTION:Jewish Federation & Foundation of Northeast Florida\nCommunity 
 Calendar\nhttps://jewishjacksonville.org/jewish-federation-of-jacksonville
 -calendar/700pm-pj-library-moms-night-out\n\nWelcome all PJ Moms! \n\nJoi
 n us for a "Mom's Night Out" and enjoy some good food and cocktails at V's
  Pizza. RSVP to mgwilliams@jfcsjax.org \n\nSpace is limited\, so register
  soon! 
DTSTART;TZID=America/New_York:20211209T190000
DTEND;TZID=America/New_York:20211209T210000
END:VEVENT
END:VCALENDAR
