BEGIN:VCALENDAR
PRODID:-//eluceo/ical//2.0/EN
VERSION:2.0
CALSCALE:GREGORIAN
BEGIN:VEVENT
UID:2c4dbb53dac26f873c9490ed5234081c
DTSTAMP:20260425T133155Z
SUMMARY:7:00 PM JFCS Holocaust Remembrance Day | Virtual Event
DESCRIPTION:Jewish Federation & Foundation of Northeast Florida\nCommunity 
 Calendar\nhttps://jewishjacksonville.org/jewish-federation-of-jacksonville
 -calendar/700pm-jfcs-virtual\n\nHolocaust Remembrance Day\nWednesday\, Jan
 uary 26 at 7pm and Thursday\, January 27 at 10am\nOur program includes a v
 irtual tour of the Frisch Family Holocaust Memorial Gallery and an early p
 review of our new exhibit\, Art in the Holocaust\, by guest curator Hope M
 cMath\, speakers Gloria Einstein (Jan 26) and Irene Jaffa (Jan 27) from 
 “Memories of the Holocaust: Sharing Family Stories”\, a conversation w
 ith Holocaust survivor and memorial designer\, Morris Bendit\, and a hoste
 d Q&A.\nPlease RS...
DTSTART;TZID=America/New_York:20220126T190000
DTEND;TZID=America/New_York:20220126T200000
END:VEVENT
END:VCALENDAR
