BEGIN:VCALENDAR
PRODID:-//eluceo/ical//2.0/EN
VERSION:2.0
CALSCALE:GREGORIAN
BEGIN:VEVENT
UID:896de857a711eaa3ae250c6fe4f046a8
DTSTAMP:20260426T043907Z
SUMMARY:7:00pm Executive Committee Meeting Congregation Ahavath Chesed
DESCRIPTION:Jewish Federation & Foundation of Northeast Florida\nCommunity 
 Calendar\nhttps://jewishjacksonville.org/jewish-federation-of-jacksonville
 -calendar/700pm-executive-committee-meeting-congregation-ahavath-chesed\n\
 nExecutive Committee Meeting. Occurs the first Wednesday of every month. 
DTSTART;TZID=America/New_York:20170104T190000
DTEND;TZID=America/New_York:20170104T203000
END:VEVENT
END:VCALENDAR
