BEGIN:VCALENDAR
PRODID:-//eluceo/ical//2.0/EN
VERSION:2.0
CALSCALE:GREGORIAN
BEGIN:VEVENT
UID:e178e6c6eb8eba2294f97ad33e595a4f
DTSTAMP:20260423T054503Z
SUMMARY:7:00pm Congregation Ahavath Chesed/Erev Rosh Hashanah
DESCRIPTION:Jewish Federation & Foundation of Northeast Florida\nCommunity 
 Calendar\nhttps://jewishjacksonville.org/jewish-federation-of-jacksonville
 -calendar/700pm-congregation-ahavath-chesederev-rosh-hashanah\n\nDays of A
 we\n\nErev Rosh Hashanah at Temple\n\nFamily Worship\n\nCongregation Ahav
 ath Chesed\n\nSaturday\, September 25th\n\nProgram 7:00 p.m.
DTSTART;TZID=America/New_York:20220925T190000
DTEND;TZID=America/New_York:20220925T200000
END:VEVENT
END:VCALENDAR
