BEGIN:VCALENDAR
PRODID:-//eluceo/ical//2.0/EN
VERSION:2.0
CALSCALE:GREGORIAN
BEGIN:VEVENT
UID:819390857b4c18604c969bdf070d39c2
DTSTAMP:20260422T125325Z
SUMMARY:7:00pm Congregation Ahavath Chesed/Days of Awe/Shabbat Shuvah
DESCRIPTION:Jewish Federation & Foundation of Northeast Florida\nCommunity 
 Calendar\nhttps://jewishjacksonville.org/jewish-federation-of-jacksonville
 -calendar/700pm-congregation-ahavath-cheseddays-of-aweshabbat-shuvah\n\nDa
 ys of Awe\n\nShabbat Shuvah at Temple\n\nHealing Service\n\nCongregation A
 havath Chesed\n\nFriday\, September 30th\n\nProgram 7:00 p.m.
DTSTART;TZID=America/New_York:20220930T190000
DTEND;TZID=America/New_York:20220930T210000
END:VEVENT
END:VCALENDAR
