BEGIN:VCALENDAR
PRODID:-//eluceo/ical//2.0/EN
VERSION:2.0
CALSCALE:GREGORIAN
BEGIN:VEVENT
UID:d8c04455a813b8fe473873f875ef6f9a
DTSTAMP:20260420T160022Z
SUMMARY:7:00 PM Latkes & Vodkas Hanukkah Party Jacksonville Jewish Center
DESCRIPTION:Jewish Federation & Foundation of Northeast Florida\nCommunity 
 Calendar\nhttps://jewishjacksonville.org/jewish-federation-of-jacksonville
 -calendar/700-pm-vodka-latke-hanukkah-party-jacksonville-jewish-center\n\n
 Join us for an evening filled with vodka tasting\, dreidel spinning\, musi
 c playing\, casino gaming and if that's not enough... gourmet latke eating
 !\n\nSaturday\, December 16\, 2017   |     7:00 PM - 11:00 PM\n$36 i
 n advance   |      $50 at the door\nRSVP by Monday\, December 11\, 
 by calling Rose at 904-292-1000 or visit our website JJCJAX.org. Payment s
 ecures your spot!\n\n 
DTSTART;TZID=America/New_York:20171216T190000
DTEND;TZID=America/New_York:20171216T230000
END:VEVENT
END:VCALENDAR
