BEGIN:VCALENDAR
PRODID:-//eluceo/ical//2.0/EN
VERSION:2.0
CALSCALE:GREGORIAN
BEGIN:VEVENT
UID:01abcf9ed379c25546921bec3e18f0f6
DTSTAMP:20260420T212512Z
SUMMARY:7:00 PM The Temple Pulpit Swap Weekend with Hendricks Avenue Baptis
 t
DESCRIPTION:Jewish Federation & Foundation of Northeast Florida\nCommunity 
 Calendar\nhttps://jewishjacksonville.org/jewish-federation-of-jacksonville
 -calendar/700-pm-the-temple-pulpit-swap-weekend\n\nJoin us as we welcome D
 r. B.J. Hutto to the Bimah for Shabbat Services at 7:00 PM on Friday\, Jan
 uary 10\, 2025 at Temple.
DTSTART;TZID=America/New_York:20250110T190000
DTEND;TZID=America/New_York:20250110T203000
END:VEVENT
END:VCALENDAR
